BEGIN:VCALENDAR
METHOD:PUBLISH
VERSION:2.0
PRODID:-//hacksw/handcal//NONSGML v1.0//EN
X-WR-TIMEZONE:Australia/Melbourne
CALSCALE:GREGORIAN
BEGIN:VEVENT
DTSTART;TZID=Australia/Melbourne:20260501T090000
DTEND;TZID=Australia/Melbourne:20260501T120000
UID:17672246596955B553A367303374081688361232956955B553A367B426604059
DTSTAMP:20260425T043459
LOCATION:Club Room 96-150  Breakwater Road, Breakwater
DESCRIPTION:The Shed is usually open to all membes on Friday mornings betw
 een 9.00 am and 12 noon for service work on your car or if you have a prob
 lem with your classic vehicle. Drop-in and speak with Rosss Hutton for adv
 ice (Ross Hutton - Shed Manager on mobile 0428 599 513) or one of our many
  experts. Drop-by to see the progress of or help with the restoration of t
 he Club\'s MGB-GT. Come down for a cuppa and a chat. Everyone Welcome!
URL;VALUE=URI:http://mgccgeelong.com.au/events/view.php?id=17672246596955B
 553A367303374081688361232956955B553A367B426604059
SUMMARY:The Shed 
END:VEVENT
END:VCALENDAR
