BEGIN:VCALENDAR
METHOD:PUBLISH
VERSION:2.0
PRODID:-//hacksw/handcal//NONSGML v1.0//EN
X-WR-TIMEZONE:Australia/Melbourne
CALSCALE:GREGORIAN
BEGIN:VEVENT
DTSTART;TZID=Australia/Melbourne:20260317T190000
DTEND;TZID=Australia/Melbourne:20260317T210000
UID:1415642609669793D6E8036D7458208001238687283469793D6E8037C6431984
DTSTAMP:20260423T192135
LOCATION:Clubrooms: 96-150 Breakwater Rd, Breakwater, Victoria, 3219
DESCRIPTION:Executive Committee Meeting Club Small Meeting Room. 
URL;VALUE=URI:http://mgccgeelong.com.au/events/view.php?id=141564260966979
 3D6E8036D7458208001238687283469793D6E8037C6431984
SUMMARY:Executive Committee Meeting
END:VEVENT
END:VCALENDAR
